BEGIN:VCALENDAR
VERSION:2.0
PRODID:-//MA250 - ECPv6.5.1.5//NONSGML v1.0//EN
CALSCALE:GREGORIAN
METHOD:PUBLISH
X-WR-CALNAME:MA250
X-ORIGINAL-URL:https://massachusetts250.org
X-WR-CALDESC:Events for MA250
REFRESH-INTERVAL;VALUE=DURATION:PT1H
X-Robots-Tag:noindex
X-PUBLISHED-TTL:PT1H
BEGIN:VTIMEZONE
TZID:America/New_York
BEGIN:DAYLIGHT
TZOFFSETFROM:-0500
TZOFFSETTO:-0400
TZNAME:EDT
DTSTART:20250309T070000
END:DAYLIGHT
BEGIN:STANDARD
TZOFFSETFROM:-0400
TZOFFSETTO:-0500
TZNAME:EST
DTSTART:20251102T060000
END:STANDARD
END:VTIMEZONE
BEGIN:VEVENT
DTSTART;TZID=America/New_York:20250531T140000
DTEND;TZID=America/New_York:20250531T150000
DTSTAMP:20260421T054724
CREATED:20250505T141026Z
LAST-MODIFIED:20250505T141026Z
UID:14557-1748700000-1748703600@massachusetts250.org
SUMMARY:Revolutionary Walk Through the Old Burying Ground
DESCRIPTION:Don Black\, of Groton’s Old Burying Ground Commission\, will talk about the graves in the Old Burying Ground related to the Revolutionary War. Accompanying the walk and talk will be a display of the Revolutionary War cannon that militia\, including members from Groton\, looted off of a British ship and used at the Battle of Bunker Hill. The cannon was restored by Earl Carter and sits atop a replica carriage Carter constructed with two-century-old wood left over from the construction of the USS Constitution. \nThis program is offered by the Groton History Center as part of the Hidden Treasures Festival of Nature\, Culture & History\, an annual month-long celebration showcasing events and activities hosted by local partners celebrating the unique places\, objects\, and stories of the Freedom’s Way National Heritage Area. Hidden Treasures programs are free and open to the public. Learn more at freedomsway.org/hidden-treasures.
URL:https://massachusetts250.org/event/revolutionary-walk-through-the-old-burying-ground/
LOCATION:Groton’s Old Burying Ground\, Hollis Street 44\, Groton\, MA\, 01450\, United States
CATEGORIES:Event,Outdoors,Speakers
ATTACH;FMTTYPE=image/jpeg:https://massachusetts250.org/wp-content/uploads/2025/04/DSC_1591.jpeg
GEO:42.6115087;-71.5729387
X-APPLE-STRUCTURED-LOCATION;VALUE=URI;X-ADDRESS=Groton’s Old Burying Ground Hollis Street 44 Groton MA 01450 United States;X-APPLE-RADIUS=500;X-TITLE=Hollis Street 44:geo:-71.5729387,42.6115087
END:VEVENT
END:VCALENDAR