BEGIN:VCALENDAR
VERSION:2.0
PRODID:-//MA250 - ECPv6.5.1.5//NONSGML v1.0//EN
CALSCALE:GREGORIAN
METHOD:PUBLISH
X-WR-CALNAME:MA250
X-ORIGINAL-URL:https://massachusetts250.org
X-WR-CALDESC:Events for MA250
REFRESH-INTERVAL;VALUE=DURATION:PT1H
X-Robots-Tag:noindex
X-PUBLISHED-TTL:PT1H
BEGIN:VTIMEZONE
TZID:America/New_York
BEGIN:DAYLIGHT
TZOFFSETFROM:-0500
TZOFFSETTO:-0400
TZNAME:EDT
DTSTART:20250309T070000
END:DAYLIGHT
BEGIN:STANDARD
TZOFFSETFROM:-0400
TZOFFSETTO:-0500
TZNAME:EST
DTSTART:20251102T060000
END:STANDARD
END:VTIMEZONE
BEGIN:VEVENT
DTSTART;TZID=America/New_York:20250521T190000
DTEND;TZID=America/New_York:20250521T200000
DTSTAMP:20260421T042551
CREATED:20250310T175726Z
LAST-MODIFIED:20250312T191812Z
UID:10722-1747854000-1747857600@massachusetts250.org
SUMMARY:Revolutionary Tea on a Gambrel Roof
DESCRIPTION:A dramatization of ‘A Gambrel Roof’\, a poem by Lucy Larcom. Reservations requested. \nA creative multi-disciplinary theatrical presentation of a circa 1875 local poem about the historic Danvers Jeremiah Page House. Period music\, and an art installation add to the illustration of the story: \nIn about 1770\, when the British monarchy started taxing tea in the colonies\, Jeremiah told Sarah that “no tea shall be drunk in this house”. However\, while her husband was away one day\, Sarah and two friends secretly had their tea ON the roof of the house. In Sarah’s words\, “Upon a house is not within it”\, so she was still obeying her husband’s wishes. This story was told to Anne L. Page\, Jeremiah’s granddaughter\, by a family friend many years later. Anne then told it to her friend Lucy Larcom\, the famous Beverly poet. Lucy romanticized the story in the poem “A Gambrel Roof” written as the 100th birthday of our nation approached and published in the Atlantic Monthly. \nTapley Memorial Hall\, 13 Page Street\, Danvers MA. Wheelchair accessible building and parking available. Additional parking in the Elm Street lot. \nDonations appreciated \nWe are proud to participate in Mass Cultural Council’s Card to Culture program. \nDanvers Historical Society: 978-777-1666 or E-mail to connect@danvershistory.org
URL:https://massachusetts250.org/event/revolutionary-tea-on-a-gambrel-roof/
LOCATION:Tapley Memorial Hall\, 13 Page Street\, Danvers\, MA\, 01923\, United States
CATEGORIES:Drama,Exhibit,Women's History
ATTACH;FMTTYPE=image/jpeg:https://massachusetts250.org/wp-content/uploads/2025/03/Rev250Danvers-1.jpg
ORGANIZER;CN="Danvers Historical Society":MAILTO:dhs@danvershistory.org
GEO:42.5658882;-70.9371886
X-APPLE-STRUCTURED-LOCATION;VALUE=URI;X-ADDRESS=Tapley Memorial Hall 13 Page Street Danvers MA 01923 United States;X-APPLE-RADIUS=500;X-TITLE=13 Page Street:geo:-70.9371886,42.5658882
END:VEVENT
END:VCALENDAR