BEGIN:VCALENDAR
VERSION:2.0
PRODID:-//MA250 - ECPv6.5.1.5//NONSGML v1.0//EN
CALSCALE:GREGORIAN
METHOD:PUBLISH
X-WR-CALNAME:MA250
X-ORIGINAL-URL:https://massachusetts250.org
X-WR-CALDESC:Events for MA250
REFRESH-INTERVAL;VALUE=DURATION:PT1H
X-Robots-Tag:noindex
X-PUBLISHED-TTL:PT1H
BEGIN:VTIMEZONE
TZID:America/New_York
BEGIN:DAYLIGHT
TZOFFSETFROM:-0500
TZOFFSETTO:-0400
TZNAME:EDT
DTSTART:20250309T070000
END:DAYLIGHT
BEGIN:STANDARD
TZOFFSETFROM:-0400
TZOFFSETTO:-0500
TZNAME:EST
DTSTART:20251102T060000
END:STANDARD
END:VTIMEZONE
BEGIN:VEVENT
DTSTART;TZID=America/New_York:20250430T183000
DTEND;TZID=America/New_York:20250430T193000
DTSTAMP:20260420T043847
CREATED:20250407T152141Z
LAST-MODIFIED:20250407T152141Z
UID:10001320-1746037800-1746041400@massachusetts250.org
SUMMARY:Privateer Trail Walking Tour
DESCRIPTION:Are you interested in Beverly’s Revolutionary era maritime history? Then this is the tour for you! Join us as we journey through Beverly to visit the homes and businesses of some of Beverly’s most famous privateers. Experience Beverly’s beautiful waterfront views as our guide explains how these sites would have looked and functioned in the 18th century. Tour is 1.4 miles
URL:https://massachusetts250.org/event/privateer-trail-walking-tour/2025-04-30/2/
LOCATION:Historic Beverly\, 117 Cabot Street\, Beverly\, MA\, 01915\, United States
CATEGORIES:Event,Outdoors
ATTACH;FMTTYPE=image/jpeg:https://massachusetts250.org/wp-content/uploads/2025/04/Privateer-Trail-Walking-Tour.jpg
ORGANIZER;CN="Historic Beverly 117 Cabot Street Beverly%2C MA 01915":MAILTO:abattis@historicbeverly.net
GEO:42.5458772;-70.879895
X-APPLE-STRUCTURED-LOCATION;VALUE=URI;X-ADDRESS=Historic Beverly 117 Cabot Street Beverly MA 01915 United States;X-APPLE-RADIUS=500;X-TITLE=117 Cabot Street:geo:-70.879895,42.5458772
END:VEVENT
END:VCALENDAR