BEGIN:VCALENDAR
VERSION:2.0
PRODID:-//MA250 - ECPv6.5.1.5//NONSGML v1.0//EN
CALSCALE:GREGORIAN
METHOD:PUBLISH
X-WR-CALNAME:MA250
X-ORIGINAL-URL:https://massachusetts250.org
X-WR-CALDESC:Events for MA250
REFRESH-INTERVAL;VALUE=DURATION:PT1H
X-Robots-Tag:noindex
X-PUBLISHED-TTL:PT1H
BEGIN:VTIMEZONE
TZID:America/New_York
BEGIN:DAYLIGHT
TZOFFSETFROM:-0500
TZOFFSETTO:-0400
TZNAME:EDT
DTSTART:20250309T070000
END:DAYLIGHT
BEGIN:STANDARD
TZOFFSETFROM:-0400
TZOFFSETTO:-0500
TZNAME:EST
DTSTART:20251102T060000
END:STANDARD
END:VTIMEZONE
BEGIN:VEVENT
DTSTART;VALUE=DATE:20250517
DTEND;VALUE=DATE:20250518
DTSTAMP:20260425T210611
CREATED:20250214T164412Z
LAST-MODIFIED:20250214T164412Z
UID:9775-1747440000-1747526399@massachusetts250.org
SUMMARY:Paul Revere's Bike Ride for the Concord Museum
DESCRIPTION:The Paul Revere’s Bike Ride for the Concord Museum will be held on Saturday\, May 17th to mark the 250th anniversary of the start of the American Revolution. \nRegistered participants will enjoy a recreational ride through Concord\, Lexington\, Lincoln\, Bedford\, and Carlisle. Starting at the Concord Museum\, cyclists can choose to ride a 21.3- or 32.4-mile loop on paved roads\, passing many historic sites including the North Bridge\, the Lexington Green\, and the Paul Revere capture site. A post-ride party with food\, drink\, and entertainment will be held on the Museum lawn at the end of the Ride. \nAll net proceeds from the events will support the Museum’s educational programs\, making it possible for more than 14\,000 school children to learn from the Museum’s unique collection and expert educators.
URL:https://massachusetts250.org/event/paul-reveres-bike-ride-for-the-concord-museum/
LOCATION:Concord Museum\, 53 Cambridge Turnpike\, Concord\, MA\, 01742\, United States
CATEGORIES:Event,Outdoors
ATTACH;FMTTYPE=image/png:https://massachusetts250.org/wp-content/uploads/2025/02/PR-Bike-Ride-1732-x-1000.png
ORGANIZER;CN="Concord Museum":MAILTO:pollyconcord250@gmail.com
GEO:42.457529;-71.3417985
X-APPLE-STRUCTURED-LOCATION;VALUE=URI;X-ADDRESS=Concord Museum 53 Cambridge Turnpike Concord MA 01742 United States;X-APPLE-RADIUS=500;X-TITLE=53 Cambridge Turnpike:geo:-71.3417985,42.457529
END:VEVENT
END:VCALENDAR