BEGIN:VCALENDAR
VERSION:2.0
PRODID:-//MA250 - ECPv6.5.1.5//NONSGML v1.0//EN
CALSCALE:GREGORIAN
METHOD:PUBLISH
X-WR-CALNAME:MA250
X-ORIGINAL-URL:https://massachusetts250.org
X-WR-CALDESC:Events for MA250
REFRESH-INTERVAL;VALUE=DURATION:PT1H
X-Robots-Tag:noindex
X-PUBLISHED-TTL:PT1H
BEGIN:VTIMEZONE
TZID:America/New_York
BEGIN:DAYLIGHT
TZOFFSETFROM:-0500
TZOFFSETTO:-0400
TZNAME:EDT
DTSTART:20250309T070000
END:DAYLIGHT
BEGIN:STANDARD
TZOFFSETFROM:-0400
TZOFFSETTO:-0500
TZNAME:EST
DTSTART:20251102T060000
END:STANDARD
END:VTIMEZONE
BEGIN:VEVENT
DTSTART;TZID=America/New_York:20250421T110000
DTEND;TZID=America/New_York:20250421T143000
DTSTAMP:20260425T210239
CREATED:20250404T204347Z
LAST-MODIFIED:20250407T180009Z
UID:12829-1745233200-1745245800@massachusetts250.org
SUMMARY:Patriotic Picnic in Hastings Park
DESCRIPTION:Close out a momentous weekend honoring the first shot of the American Revolution with the Lex250 Patriotic Picnic in Hastings Park on Monday\, April 21\, 2025\, from 11:00 AM to 2:30 PM at Hastings Park (10 Lincoln St\, Lexington\, MA)! \nExperience the power of history\, music\, and community at this once-in-a-lifetime signature event. Members of the Boston Pops will perform. Rock out with the band Malin\, and witness special appearances by the Lexington Minute Men\, the Lancers\, and more. Don’t miss a thrilling visit from the Lancers featuring “Paul Revere” and “William Dawes” on horseback\, bringing history to life before your eyes.
URL:https://massachusetts250.org/event/patriotic-picnic-in-hastings-park/
LOCATION:Hastings Park\, 10 Lincoln St\, Lexington\, 02421\, United States
CATEGORIES:Anniversary,Celebration,Commemoration,Event,Outdoors
ORGANIZER;CN="lex250":MAILTO:lex250@jgrp.net
GEO:42.4476108;-71.2380364
X-APPLE-STRUCTURED-LOCATION;VALUE=URI;X-ADDRESS=Hastings Park 10 Lincoln St Lexington 02421 United States;X-APPLE-RADIUS=500;X-TITLE=10 Lincoln St:geo:-71.2380364,42.4476108
END:VEVENT
END:VCALENDAR