BEGIN:VCALENDAR
VERSION:2.0
PRODID:-//MA250 - ECPv6.5.1.5//NONSGML v1.0//EN
CALSCALE:GREGORIAN
METHOD:PUBLISH
X-WR-CALNAME:MA250
X-ORIGINAL-URL:https://massachusetts250.org
X-WR-CALDESC:Events for MA250
REFRESH-INTERVAL;VALUE=DURATION:PT1H
X-Robots-Tag:noindex
X-PUBLISHED-TTL:PT1H
BEGIN:VTIMEZONE
TZID:America/New_York
BEGIN:DAYLIGHT
TZOFFSETFROM:-0500
TZOFFSETTO:-0400
TZNAME:EDT
DTSTART:20250309T070000
END:DAYLIGHT
BEGIN:STANDARD
TZOFFSETFROM:-0400
TZOFFSETTO:-0500
TZNAME:EST
DTSTART:20251102T060000
END:STANDARD
END:VTIMEZONE
BEGIN:VEVENT
DTSTART;TZID=America/New_York:20251120T180000
DTEND;TZID=America/New_York:20251120T193000
DTSTAMP:20260421T042806
CREATED:20251017T204156Z
LAST-MODIFIED:20251017T204156Z
UID:19507-1763661600-1763667000@massachusetts250.org
SUMMARY:Opening Reception for the Rotch 250th Exhibition & Artist’s Talk
DESCRIPTION:Join the RJD for a reception and be the first to see RJD’s newest exhibition\, Unraveling the Revolutionary Journey of William Rotch Sr. The exhibition features the art of a new historical graphic novel “Quaker\, Whaler\, Traitor\, Spy! The Trials of William Rotch” written by Dr. Sarah Crabtree and illustrated by Melissa “Sawhand” Philley. Twenty prints of art in the book will be on display. The artist\, Melissa Philley will speak about her work at 6:30pm. This event is free and open to the public. \nAccused of treason four times by three governments in two revolutionary decades (1775 – 1795)\, William Rotch suffered from the “with-us-or-against-us” political landscape of the late eighteenth century. A Quaker\, he opposed wars for independence and empire. Yet he downplayed and even withheld key details from his story\, a second narrative that began with the Boston Tea Party\, stretched across the world\, and made him one of the wealthiest men in America. \nThis exhibit invites the viewer – you! – to decide which label best describes him. Along the way\, we’ll revisit some famous (and infamous!) events and we’ll hear from a few characters you’ve definitely heard of and some maybe you haven’t. What we hope is that you’ll agree his-story is a way of reapproaching how history is made – a story that is as much about who and what we remember as how and why we remember them.
URL:https://massachusetts250.org/event/opening-reception-for-the-rotch-250th-exhibition-artists-talk/
LOCATION:The Rotch-Jones-Duff House & Garden Museum\, County Street 396\, New Bedford\, MA\, 02740\, United States
CATEGORIES:Celebration,Event,Exhibit
ATTACH;FMTTYPE=image/png:https://massachusetts250.org/wp-content/uploads/2025/09/Heading.png
ORGANIZER;CN="The Rotch-Jones-Duff House &amp%3B Garden Museum":MAILTO:lpothier@rjdmuseum.org
GEO:41.6304447;-70.928469
X-APPLE-STRUCTURED-LOCATION;VALUE=URI;X-ADDRESS=The Rotch-Jones-Duff House & Garden Museum County Street 396 New Bedford MA 02740 United States;X-APPLE-RADIUS=500;X-TITLE=County Street 396:geo:-70.928469,41.6304447
END:VEVENT
END:VCALENDAR