BEGIN:VCALENDAR
VERSION:2.0
PRODID:-//MA250 - ECPv6.5.1.5//NONSGML v1.0//EN
CALSCALE:GREGORIAN
METHOD:PUBLISH
X-WR-CALNAME:MA250
X-ORIGINAL-URL:https://massachusetts250.org
X-WR-CALDESC:Events for MA250
REFRESH-INTERVAL;VALUE=DURATION:PT1H
X-Robots-Tag:noindex
X-PUBLISHED-TTL:PT1H
BEGIN:VTIMEZONE
TZID:America/New_York
BEGIN:DAYLIGHT
TZOFFSETFROM:-0500
TZOFFSETTO:-0400
TZNAME:EDT
DTSTART:20250309T070000
END:DAYLIGHT
BEGIN:STANDARD
TZOFFSETFROM:-0400
TZOFFSETTO:-0500
TZNAME:EST
DTSTART:20251102T060000
END:STANDARD
END:VTIMEZONE
BEGIN:VEVENT
DTSTART;TZID=America/New_York:20250615T160000
DTEND;TZID=America/New_York:20250615T173000
DTSTAMP:20260425T063012
CREATED:20250612T201551Z
LAST-MODIFIED:20250612T201551Z
UID:16203-1750003200-1750008600@massachusetts250.org
SUMMARY:New Date! Burying Ground Tour 2: First Parish and Newburyport's Road to Revolution
DESCRIPTION:Join us for an exploration of the people who shaped Newbury’s Revolution! \nNewbury’s First Parish Burying Ground is the final resting place for dozens of local families who experienced the American Revolution as soldiers\, sailors\, and citizens. Come meet them and hear their stories as part of Newburyport’s Road to Revolution series!
URL:https://massachusetts250.org/event/new-date-burying-ground-tour-2-first-parish-and-newburyports-road-to-revolution/
LOCATION:First Parish Burial Ground Newbury\, Massachusetts 1A\, Newburyport\, Massachusetts\, 01951\, United States
CATEGORIES:Commemoration,Event,Outdoors
ATTACH;FMTTYPE=image/jpeg:https://massachusetts250.org/wp-content/uploads/2025/06/First-Parish2.jpg
ORGANIZER;CN="Museum of  Old Newbury":MAILTO:info@newburyhistory.org
GEO:42.7664013;-70.8463757
X-APPLE-STRUCTURED-LOCATION;VALUE=URI;X-ADDRESS=First Parish Burial Ground Newbury Massachusetts 1A Newburyport Massachusetts 01951 United States;X-APPLE-RADIUS=500;X-TITLE=Massachusetts 1A:geo:-70.8463757,42.7664013
END:VEVENT
END:VCALENDAR