BEGIN:VCALENDAR
VERSION:2.0
PRODID:-//MA250 - ECPv6.5.1.5//NONSGML v1.0//EN
CALSCALE:GREGORIAN
METHOD:PUBLISH
X-WR-CALNAME:MA250
X-ORIGINAL-URL:https://massachusetts250.org
X-WR-CALDESC:Events for MA250
REFRESH-INTERVAL;VALUE=DURATION:PT1H
X-Robots-Tag:noindex
X-PUBLISHED-TTL:PT1H
BEGIN:VTIMEZONE
TZID:America/New_York
BEGIN:DAYLIGHT
TZOFFSETFROM:-0500
TZOFFSETTO:-0400
TZNAME:EDT
DTSTART:20250309T070000
END:DAYLIGHT
BEGIN:STANDARD
TZOFFSETFROM:-0400
TZOFFSETTO:-0500
TZNAME:EST
DTSTART:20251102T060000
END:STANDARD
END:VTIMEZONE
BEGIN:VEVENT
DTSTART;VALUE=DATE:20250628
DTEND;VALUE=DATE:20250630
DTSTAMP:20260425T063013
CREATED:20250310T175241Z
LAST-MODIFIED:20250310T175241Z
UID:9157-1751068800-1751241599@massachusetts250.org
SUMMARY:Militia Encampment to Re-enact Revolutionary Way Activities in Dartmouth\, MA
DESCRIPTION:Living History Comes Alive on Saturday\, June 28 and Sunday\, June 29\, 2025\, at the “Akin Farmstead” at 762 Dartmouth Street in Dartmouth\, MA. This two-day event sponsored by the Dartmouth Heritage Preservation Trust\, Inc. (DHPT) will include a militia encampment on site to re-enact Revolutionary War activities in old Dartmouth. Additionally\, DHPT’s popular seasonal event\, “Never Idle Hands–Living in Early America\,” will be held on Sunday\, June 29\, and will include new and returning participants who will be on hand to showcase: 18th century cookery; demonstrations of early woodworking techniques using antique tools and other artisanal craftmaking; participate in an archaeological dig on site and view archaeological finds from the property; learn about apple cultivation in the 1700s. Opportunities to engage with Revolutionary era re-enactors. Tour the 1762 Akin House and learn about the Akin families’ contributions to the War of Independence; music by the Buzzards Bay Buccaneers\, and more. Children are welcome to play games as the young ones did during this period in history. \nStop by during the course of these two days! Free and open to all! \nWe cannot make this event possible without the generosity of the participants and reenactors who bring you living history at the Akin House. We thank them all! \nThis event also sponsored by the Massachusetts Cultural Council. \nStay tuned for updates!
URL:https://massachusetts250.org/event/militia-encampment-to-re-enact-revolutionary-way-activities-in-dartmouth-ma/
CATEGORIES:Commemoration
ATTACH;FMTTYPE=image/jpeg:https://massachusetts250.org/wp-content/uploads/2025/01/IMG_8670-scaled.jpeg
ORGANIZER;CN="Dartmouth":MAILTO:d.m.gilbert51@gmail.com
END:VEVENT
END:VCALENDAR