BEGIN:VCALENDAR
VERSION:2.0
PRODID:-//MA250 - ECPv6.5.1.5//NONSGML v1.0//EN
CALSCALE:GREGORIAN
METHOD:PUBLISH
X-WR-CALNAME:MA250
X-ORIGINAL-URL:https://massachusetts250.org
X-WR-CALDESC:Events for MA250
REFRESH-INTERVAL;VALUE=DURATION:PT1H
X-Robots-Tag:noindex
X-PUBLISHED-TTL:PT1H
BEGIN:VTIMEZONE
TZID:America/New_York
BEGIN:DAYLIGHT
TZOFFSETFROM:-0500
TZOFFSETTO:-0400
TZNAME:EDT
DTSTART:20250309T070000
END:DAYLIGHT
BEGIN:STANDARD
TZOFFSETFROM:-0400
TZOFFSETTO:-0500
TZNAME:EST
DTSTART:20251102T060000
END:STANDARD
END:VTIMEZONE
BEGIN:VEVENT
DTSTART;TZID=America/New_York:20250811T120000
DTEND;TZID=America/New_York:20250811T130000
DTSTAMP:20260421T054419
CREATED:20250314T183709Z
LAST-MODIFIED:20250314T222155Z
UID:11015-1754913600-1754917200@massachusetts250.org
SUMMARY:Local Maritime History
DESCRIPTION:A casual discussion and 20-30 minute film. Presented by Heritage Films. \nShipping and Customs House. Worldly goods and local settlements. \nTypically\, the 2nd Monday every month\, Noon – 1 p.m.\nTapley Memorial Hall 13 Page Street\, Danvers\, MA.\nFree Admission. Donations appreciated. Bring your lunch!\nWe are proud to participate in Mass Cultural Council’s Card to Culture program. \nDanvers Historical Society: 978-777-1666 or E-mail to connect@danvershistory.org
URL:https://massachusetts250.org/event/local-maritime-history/
LOCATION:Tapley Memorial Hall\, 13 Page Street\, Danvers\, MA\, 01923\, United States
CATEGORIES:Event,Speakers
ATTACH;FMTTYPE=image/jpeg:https://massachusetts250.org/wp-content/uploads/2025/03/DiscoverDanvers-Rev250-1.jpg
ORGANIZER;CN="Danvers Historical Society":MAILTO:dhs@danvershistory.org
GEO:42.5658882;-70.9371886
X-APPLE-STRUCTURED-LOCATION;VALUE=URI;X-ADDRESS=Tapley Memorial Hall 13 Page Street Danvers MA 01923 United States;X-APPLE-RADIUS=500;X-TITLE=13 Page Street:geo:-70.9371886,42.5658882
END:VEVENT
END:VCALENDAR