BEGIN:VCALENDAR
VERSION:2.0
PRODID:-//MA250 - ECPv6.5.1.5//NONSGML v1.0//EN
CALSCALE:GREGORIAN
METHOD:PUBLISH
X-WR-CALNAME:MA250
X-ORIGINAL-URL:https://massachusetts250.org
X-WR-CALDESC:Events for MA250
REFRESH-INTERVAL;VALUE=DURATION:PT1H
X-Robots-Tag:noindex
X-PUBLISHED-TTL:PT1H
BEGIN:VTIMEZONE
TZID:America/New_York
BEGIN:DAYLIGHT
TZOFFSETFROM:-0500
TZOFFSETTO:-0400
TZNAME:EDT
DTSTART:20250309T070000
END:DAYLIGHT
BEGIN:STANDARD
TZOFFSETFROM:-0400
TZOFFSETTO:-0500
TZNAME:EST
DTSTART:20251102T060000
END:STANDARD
END:VTIMEZONE
BEGIN:VEVENT
DTSTART;TZID=America/New_York:20250727T120000
DTEND;TZID=America/New_York:20250727T133000
DTSTAMP:20260421T042807
CREATED:20250604T145613Z
LAST-MODIFIED:20250604T145613Z
UID:15819-1753617600-1753623000@massachusetts250.org
SUMMARY:Living History Interpretation: Tea in Early America
DESCRIPTION:Join living history interpreter Audrey Stuck-Girard as she prepares a few cups of 18th-century tea with antique teaware and discusses the ways the beverage impacted cultural traditions\, global trade\, and revolutionary politics in 1700s Massachusetts.
URL:https://massachusetts250.org/event/living-history-interpretation-tea-in-early-america/
LOCATION:1699 Isaac Winslow House\, 634 Careswell St\, Marshfield\, 02050\, United States
CATEGORIES:Event,Women's History
ATTACH;FMTTYPE=image/png:https://massachusetts250.org/wp-content/uploads/2025/06/Screenshot-2025-06-03-at-5.43.27 PM.png
ORGANIZER;CN="Historic Winslow House Association":MAILTO:whaboard@winslowhouse.org
GEO:42.0713374;-70.6730523
X-APPLE-STRUCTURED-LOCATION;VALUE=URI;X-ADDRESS=1699 Isaac Winslow House 634 Careswell St Marshfield 02050 United States;X-APPLE-RADIUS=500;X-TITLE=634 Careswell St:geo:-70.6730523,42.0713374
END:VEVENT
END:VCALENDAR