BEGIN:VCALENDAR
VERSION:2.0
PRODID:-//MA250 - ECPv6.5.1.5//NONSGML v1.0//EN
CALSCALE:GREGORIAN
METHOD:PUBLISH
X-WR-CALNAME:MA250
X-ORIGINAL-URL:https://massachusetts250.org
X-WR-CALDESC:Events for MA250
REFRESH-INTERVAL;VALUE=DURATION:PT1H
X-Robots-Tag:noindex
X-PUBLISHED-TTL:PT1H
BEGIN:VTIMEZONE
TZID:America/New_York
BEGIN:DAYLIGHT
TZOFFSETFROM:-0500
TZOFFSETTO:-0400
TZNAME:EDT
DTSTART:20250309T070000
END:DAYLIGHT
BEGIN:STANDARD
TZOFFSETFROM:-0400
TZOFFSETTO:-0500
TZNAME:EST
DTSTART:20251102T060000
END:STANDARD
END:VTIMEZONE
BEGIN:VEVENT
DTSTART;TZID=America/New_York:20250419T100000
DTEND;TZID=America/New_York:20250419T150000
DTSTAMP:20260425T193717
CREATED:20250407T152002Z
LAST-MODIFIED:20250407T174520Z
UID:13300-1745056800-1745074800@massachusetts250.org
SUMMARY:Littleton Patriots Day Celebration!
DESCRIPTION:All-day event. At 10 AM at Liberty Square\, we will hear short speeches on the importance of Patriot’s Day and lay wreaths and play Taps to honor Littleton Revolutionary War patriots. From 11 AM to 3 PM at Fay Park and the Littleton Historical Society\, join us for games\, crafts\, horses\, a fire truck\, and a food truck\, and the Boxborough Minutemen will conduct a musket salute in the afternoon.
URL:https://massachusetts250.org/event/littleton-patriots-day-celebration/
LOCATION:Liberty Square and Fay Park\, Litteton\, New Estate Road 81\, Littleton\, MA\, 01460\, United States
CATEGORIES:Event,Outdoors
ATTACH;FMTTYPE=image/png:https://massachusetts250.org/wp-content/uploads/2025/04/liberty.png
ORGANIZER;CN="Littleton Historical Commission and Littleton Historical Society":MAILTO:frondfactor@yahoo.com
GEO:42.5430252;-71.5058969
X-APPLE-STRUCTURED-LOCATION;VALUE=URI;X-ADDRESS=Liberty Square and Fay Park Litteton New Estate Road 81 Littleton MA 01460 United States;X-APPLE-RADIUS=500;X-TITLE=New Estate Road 81:geo:-71.5058969,42.5430252
END:VEVENT
END:VCALENDAR