BEGIN:VCALENDAR
VERSION:2.0
PRODID:-//MA250 - ECPv6.5.1.5//NONSGML v1.0//EN
CALSCALE:GREGORIAN
METHOD:PUBLISH
X-WR-CALNAME:MA250
X-ORIGINAL-URL:https://massachusetts250.org
X-WR-CALDESC:Events for MA250
REFRESH-INTERVAL;VALUE=DURATION:PT1H
X-Robots-Tag:noindex
X-PUBLISHED-TTL:PT1H
BEGIN:VTIMEZONE
TZID:America/New_York
BEGIN:DAYLIGHT
TZOFFSETFROM:-0500
TZOFFSETTO:-0400
TZNAME:EDT
DTSTART:20250309T070000
END:DAYLIGHT
BEGIN:STANDARD
TZOFFSETFROM:-0400
TZOFFSETTO:-0500
TZNAME:EST
DTSTART:20251102T060000
END:STANDARD
END:VTIMEZONE
BEGIN:VEVENT
DTSTART;TZID=America/New_York:20250419T190000
DTEND;TZID=America/New_York:20250419T210000
DTSTAMP:20260425T223150
CREATED:20250402T165816Z
LAST-MODIFIED:20250407T183229Z
UID:12468-1745089200-1745096400@massachusetts250.org
SUMMARY:Lexington Bicentennial Band Concert
DESCRIPTION:This will be the culmination of the Patriot’s Day Celebration for the 250th Anniversary of the first battle of the American revolution in Lexington. It will feature music related to the time period of the revolution\, including 2 works that have been commissioned by the Band: Seeds of Revolution by Daniel Lutz\, originally commissioned for Lexington’s 300th anniversary\, and the world premier of Dr. Andrew Boysen’s Symphony #11 – The Year 1775. In each case\, the composers will be conducting the Band.
URL:https://massachusetts250.org/event/lexington-bicentennial-band-concert/
LOCATION:Battin Hall\, Cary Memorial Building\, 1605 Massachusetts Avenue\, Lexington\, 02420\, United States
CATEGORIES:Celebration,Commemoration
ATTACH;FMTTYPE=image/png:https://massachusetts250.org/wp-content/uploads/2025/04/band.png
ORGANIZER;CN="Lexington Bicentennial Band":MAILTO:jeffleonard@rcn.com
GEO:42.4469771;-71.2239875
X-APPLE-STRUCTURED-LOCATION;VALUE=URI;X-ADDRESS=Battin Hall Cary Memorial Building 1605 Massachusetts Avenue Lexington 02420 United States;X-APPLE-RADIUS=500;X-TITLE=1605 Massachusetts Avenue:geo:-71.2239875,42.4469771
END:VEVENT
END:VCALENDAR