BEGIN:VCALENDAR
VERSION:2.0
PRODID:-//MA250 - ECPv6.5.1.5//NONSGML v1.0//EN
CALSCALE:GREGORIAN
METHOD:PUBLISH
X-WR-CALNAME:MA250
X-ORIGINAL-URL:https://massachusetts250.org
X-WR-CALDESC:Events for MA250
REFRESH-INTERVAL;VALUE=DURATION:PT1H
X-Robots-Tag:noindex
X-PUBLISHED-TTL:PT1H
BEGIN:VTIMEZONE
TZID:America/New_York
BEGIN:DAYLIGHT
TZOFFSETFROM:-0500
TZOFFSETTO:-0400
TZNAME:EDT
DTSTART:20250309T070000
END:DAYLIGHT
BEGIN:STANDARD
TZOFFSETFROM:-0400
TZOFFSETTO:-0500
TZNAME:EST
DTSTART:20251102T060000
END:STANDARD
END:VTIMEZONE
BEGIN:VEVENT
DTSTART;TZID=America/New_York:20250622T123000
DTEND;TZID=America/New_York:20250622T153000
DTSTAMP:20260421T041346
CREATED:20250609T175745Z
LAST-MODIFIED:20250609T175745Z
UID:16011-1750595400-1750606200@massachusetts250.org
SUMMARY:Juneteenth Gathering at Longfellow House-Washington's Headquarters
DESCRIPTION:Gather for Juneteenth to honor those who endured slavery and seized freedom on Brattle Street 250 years ago\, their descendants\, and the long history of Black freedom activism in Cambridge and beyond. \nThis free\, all-ages event is marking its fourth year in 2025! Denise Washington (#Pop-Up Poetry Series)\, a descendant of Darby Vassall\, has curated the Juneteenth Gathering at Longfellow House-Washington’s Headquarters NHS each year. Join us for the Juneteenth Gathering\, A Denise Plays Hard Event\, featuring poetry\, music\, historical displays\, family activities\, and refreshments. All are welcome!
URL:https://massachusetts250.org/event/juneteenth-gathering-at-longfellow-house-washingtons-headquarters/
LOCATION:Longfellow House-Washington Headquarters\, Brattle Street 105\, Cambridge\, Massachusetts\, 02138\, United States
CATEGORIES:Black History,Commemoration,Event,Outdoors
ATTACH;FMTTYPE=image/png:https://massachusetts250.org/wp-content/uploads/2025/06/MA250-Event-Header.png
ORGANIZER;CN="National Park Service":MAILTO:mark_powell@nps.gov
GEO:42.377391;-71.1264099
X-APPLE-STRUCTURED-LOCATION;VALUE=URI;X-ADDRESS=Longfellow House-Washington Headquarters Brattle Street 105 Cambridge Massachusetts 02138 United States;X-APPLE-RADIUS=500;X-TITLE=Brattle Street 105:geo:-71.1264099,42.377391
END:VEVENT
END:VCALENDAR