BEGIN:VCALENDAR
VERSION:2.0
PRODID:-//MA250 - ECPv6.5.1.5//NONSGML v1.0//EN
CALSCALE:GREGORIAN
METHOD:PUBLISH
X-WR-CALNAME:MA250
X-ORIGINAL-URL:https://massachusetts250.org
X-WR-CALDESC:Events for MA250
REFRESH-INTERVAL;VALUE=DURATION:PT1H
X-Robots-Tag:noindex
X-PUBLISHED-TTL:PT1H
BEGIN:VTIMEZONE
TZID:America/New_York
BEGIN:DAYLIGHT
TZOFFSETFROM:-0500
TZOFFSETTO:-0400
TZNAME:EDT
DTSTART:20250309T070000
END:DAYLIGHT
BEGIN:STANDARD
TZOFFSETFROM:-0400
TZOFFSETTO:-0500
TZNAME:EST
DTSTART:20251102T060000
END:STANDARD
END:VTIMEZONE
BEGIN:VEVENT
DTSTART;TZID=America/New_York:20250621T130000
DTEND;TZID=America/New_York:20250621T143000
DTSTAMP:20260425T103707
CREATED:20250610T070358Z
LAST-MODIFIED:20250610T070358Z
UID:16050-1750510800-1750516200@massachusetts250.org
SUMMARY:John Adams: The Colossus of Independence
DESCRIPTION:Hear from John Adams himself as he discusses his earliest beginnings in Braintree through his days as delegate of the Continental Congress and foreign ambassador. Hear his opinions of his contemporaries and how he longs to be home with his “dearest friend\,” Abigail\, and their children. Mr. Adams’ singular wit is appealing to children and adults!
URL:https://massachusetts250.org/event/john-adams-the-colossus-of-independence/
LOCATION:Paul Revere House\, 19 North Square\, Boston\, 02113\, United States
CATEGORIES:Event
GEO:42.363739;-71.0537
X-APPLE-STRUCTURED-LOCATION;VALUE=URI;X-ADDRESS=Paul Revere House 19 North Square Boston 02113 United States;X-APPLE-RADIUS=500;X-TITLE=19 North Square:geo:-71.0537,42.363739
END:VEVENT
END:VCALENDAR