BEGIN:VCALENDAR
VERSION:2.0
PRODID:-//MA250 - ECPv6.5.1.5//NONSGML v1.0//EN
CALSCALE:GREGORIAN
METHOD:PUBLISH
X-WR-CALNAME:MA250
X-ORIGINAL-URL:https://massachusetts250.org
X-WR-CALDESC:Events for MA250
REFRESH-INTERVAL;VALUE=DURATION:PT1H
X-Robots-Tag:noindex
X-PUBLISHED-TTL:PT1H
BEGIN:VTIMEZONE
TZID:America/New_York
BEGIN:DAYLIGHT
TZOFFSETFROM:-0500
TZOFFSETTO:-0400
TZNAME:EDT
DTSTART:20250309T070000
END:DAYLIGHT
BEGIN:STANDARD
TZOFFSETFROM:-0400
TZOFFSETTO:-0500
TZNAME:EST
DTSTART:20251102T060000
END:STANDARD
END:VTIMEZONE
BEGIN:VEVENT
DTSTART;TZID=America/New_York:20250626T170000
DTEND;TZID=America/New_York:20250626T183000
DTSTAMP:20260421T041403
CREATED:20250407T191124Z
LAST-MODIFIED:20250407T191124Z
UID:11939-1750957200-1750962600@massachusetts250.org
SUMMARY:Innovation Trail - Cambridge's First Walking Tour
DESCRIPTION:Join us on Thursday\, June 26th at 5 PM for a special post-work tour of The Innovation Trail\, supported by the City of Cambridge and MA 250. \nCambridge’s Kendall Square area has long been a hub of innovation\, decades before the Massachusetts Institute of Technology moved there in 1916\, and centuries before the square became a center of biotechnology research and software development. Join Michael Kuchta and Karen Weintraub\, Cambridge residents and the co-authors of Born in Cambridge: 400 Years of Ideas and Innovators\, on a walking tour of Kendall Square. \nLearn about such Cambridge innovations as the sewing machine\, the yellow highlighter marker\, the first long distance telephone call\, and Polaroid’s instant photography. You’ll hear stories about the Human Genome project\, the Apollo Guidance Computer\, mRNA-based vaccines and the Cambridge innovators who brought them into being. Come explore the lesser-known history of Kendall Square on this fascinating 90-minute walking tour. \nWe’ll start at the Boston Marriott in Kendall Square\, just above the Kendall Square T station. If you are interested in STEM and entrepreneurship\, you won’t want to miss this tour! Please dress for the day’s weather\, and please tag us in any photos that you post on Instagram or other social media: @bostoninnotrail. \nThese tickets are free thanks to generous support from the City of Cambridge and MA 250. Space is limited\, so please cancel your order if you are unable to make it so that someone else can use that ticket.
URL:https://massachusetts250.org/event/innovation-trail-cambridges-first-walking-tour/
LOCATION:50 Broadway\, Cambridge\, 50 Broadway\, Cambridge\, 02142\, United States
CATEGORIES:Celebration,Event,Outdoors,Speakers
ORGANIZER;CN="City of Cambridge":MAILTO:Cambridge250@cambridgema.gov
GEO:42.3628444;-71.0855301
X-APPLE-STRUCTURED-LOCATION;VALUE=URI;X-ADDRESS=50 Broadway Cambridge 50 Broadway Cambridge 02142 United States;X-APPLE-RADIUS=500;X-TITLE=50 Broadway:geo:-71.0855301,42.3628444
END:VEVENT
END:VCALENDAR