BEGIN:VCALENDAR
VERSION:2.0
PRODID:-//MA250 - ECPv6.5.1.5//NONSGML v1.0//EN
CALSCALE:GREGORIAN
METHOD:PUBLISH
X-WR-CALNAME:MA250
X-ORIGINAL-URL:https://massachusetts250.org
X-WR-CALDESC:Events for MA250
REFRESH-INTERVAL;VALUE=DURATION:PT1H
X-Robots-Tag:noindex
X-PUBLISHED-TTL:PT1H
BEGIN:VTIMEZONE
TZID:America/New_York
BEGIN:DAYLIGHT
TZOFFSETFROM:-0500
TZOFFSETTO:-0400
TZNAME:EDT
DTSTART:20250309T070000
END:DAYLIGHT
BEGIN:STANDARD
TZOFFSETFROM:-0400
TZOFFSETTO:-0500
TZNAME:EST
DTSTART:20251102T060000
END:STANDARD
END:VTIMEZONE
BEGIN:VEVENT
DTSTART;TZID=America/New_York:20250605T180000
DTEND;TZID=America/New_York:20250605T193000
DTSTAMP:20260421T044317
CREATED:20250521T133421Z
LAST-MODIFIED:20250521T133421Z
UID:15192-1749146400-1749151800@massachusetts250.org
SUMMARY:"In Support of the Common Cause” ~ The Merrimack Valley Goes to War A talk by historian and author Alex Cain
DESCRIPTION:“In Support of the Common Cause” ~ The Merrimack Valley Goes to War\nA talk by historian and author Alex Cain\n​Thursday\, June 5\, 2025\, ~ 6:00-7:30pm\nThe History Center at 97 Main Street \nIn October 1774\, the Massachusetts Provincial Congress directed towns across the colony to prepare for imminent conflict with England. In response\, the Merrimack Valley adopted a wartime posture\, forming minute companies\, stockpiling weapons\, ammunition\, and supplies\, and establishing a defense network ready to mobilize if British forces advanced from Boston. Join Alexander Cain as he examines the Merrimack Valley’s response\, focusing on Andover\, to the British threat and explores the region’s buildup to war\, the formation of the Massachusetts minute-man system just before the battles of Lexington and Concord\, and Andover’s role in the Battle of Bunker Hill. \nAlexander Cain is a well-respected and highly sought-after speaker who frequently lectures on the military and social influences of 1775 Massachusetts. He has published multiple research articles that have shed new light on the Battles of Lexington and Concord\, Bunker Hill\, the Siege of Boston\, and the loyalist refugee experience during the American Revolution. Alex has also published two books\, We Stood Our Ground: Lexington in the First Year of the American Revolution and I See Nothing but the Horrors of a Civil War and is the author of the blog and podcast “Historical Nerdery.” Alex directs a Merrimack Valley-based vocational program that introduces high school students to advanced manufacturing and skilled trades careers.
URL:https://massachusetts250.org/event/in-support-of-the-common-cause-the-merrimack-valley-goes-to-war-a-talk-by-historian-and-author-alex-cain/
CATEGORIES:Event,Speakers
ATTACH;FMTTYPE=image/png:https://massachusetts250.org/wp-content/uploads/2025/05/IG-Square-Alex-Cain-lecture-flyer-8.5x11.png
ORGANIZER;CN="Andover Center for History and Culture":MAILTO:mtubinis@andoverhistoryandculture.org
END:VEVENT
END:VCALENDAR