BEGIN:VCALENDAR
VERSION:2.0
PRODID:-//MA250 - ECPv6.5.1.5//NONSGML v1.0//EN
CALSCALE:GREGORIAN
METHOD:PUBLISH
X-WR-CALNAME:MA250
X-ORIGINAL-URL:https://massachusetts250.org
X-WR-CALDESC:Events for MA250
REFRESH-INTERVAL;VALUE=DURATION:PT1H
X-Robots-Tag:noindex
X-PUBLISHED-TTL:PT1H
BEGIN:VTIMEZONE
TZID:America/New_York
BEGIN:DAYLIGHT
TZOFFSETFROM:-0500
TZOFFSETTO:-0400
TZNAME:EDT
DTSTART:20260308T070000
END:DAYLIGHT
BEGIN:STANDARD
TZOFFSETFROM:-0400
TZOFFSETTO:-0500
TZNAME:EST
DTSTART:20261101T060000
END:STANDARD
END:VTIMEZONE
BEGIN:VEVENT
DTSTART;TZID=America/New_York:20260629T100000
DTEND;TZID=America/New_York:20260629T123000
DTSTAMP:20260421T204735
CREATED:20260421T211109Z
LAST-MODIFIED:20260421T211109Z
UID:29006-1782727200-1782736200@massachusetts250.org
SUMMARY:Homeschool Program: Myth and Memory: Stories of the American Revolution
DESCRIPTION:Explore objects and archival materials from Historic New England’s vast collection and participate in hands-on activities to learn about the deeply personal experiences of individuals\, families\, and communities caught up in extraordinary circumstances. Participants will consider what it was like to live through these historic events and to contribute in small and not-so-small ways to the shaping of a new nation. \nAges 7-14 \nThere must be a minimum of 5 children registered for programs to run. Programs are limited to 24 people. \nFull payment is due at the time of registration and is non-refundable (unless program is cancelled by us due to under-enrollment). \nNo registrations will be accepted on the day of the program. One adult per family admitted free. \nIt is not a drop-off program – children must be accompanied by an adult. Strollers and backpack carriers are not permitted in the house museums.
URL:https://massachusetts250.org/event/homeschool-program-myth-and-memory-stories-of-the-american-revolution/
LOCATION:Historic New England – Eustis Estate\, 1424 Canton Avenue\, Milton\, 02186\, United States
CATEGORIES:Event,Outdoors
ATTACH;FMTTYPE=image/jpeg:https://massachusetts250.org/wp-content/uploads/2026/04/HNE-Myth-and-Memory.jpg
GEO:42.2315279;-71.1072939
X-APPLE-STRUCTURED-LOCATION;VALUE=URI;X-ADDRESS=Historic New England – Eustis Estate 1424 Canton Avenue Milton 02186 United States;X-APPLE-RADIUS=500;X-TITLE=1424 Canton Avenue:geo:-71.1072939,42.2315279
END:VEVENT
END:VCALENDAR