BEGIN:VCALENDAR
VERSION:2.0
PRODID:-//MA250 - ECPv6.5.1.5//NONSGML v1.0//EN
CALSCALE:GREGORIAN
METHOD:PUBLISH
X-WR-CALNAME:MA250
X-ORIGINAL-URL:https://massachusetts250.org
X-WR-CALDESC:Events for MA250
REFRESH-INTERVAL;VALUE=DURATION:PT1H
X-Robots-Tag:noindex
X-PUBLISHED-TTL:PT1H
BEGIN:VTIMEZONE
TZID:America/New_York
BEGIN:DAYLIGHT
TZOFFSETFROM:-0500
TZOFFSETTO:-0400
TZNAME:EDT
DTSTART:20260308T070000
END:DAYLIGHT
BEGIN:STANDARD
TZOFFSETFROM:-0400
TZOFFSETTO:-0500
TZNAME:EST
DTSTART:20261101T060000
END:STANDARD
END:VTIMEZONE
BEGIN:VEVENT
DTSTART;TZID=America/New_York:20261026T100000
DTEND;TZID=America/New_York:20261026T123000
DTSTAMP:20260421T203133
CREATED:20260421T211033Z
LAST-MODIFIED:20260421T211033Z
UID:29035-1793008800-1793017800@massachusetts250.org
SUMMARY:Homeschool Program: Dirt Detectives: Revolutionary Edition
DESCRIPTION:October is Massachusetts Archaeology Month! Participants become archaeologists as they excavate a mock pit with actual tools of the trade; process reproduction artifacts in a field lab; and analyze unfamiliar objects. This year\, we will focus on how archaeology has enabled us to learn more about life on the farm during the American Revolution. \nAges 5-14 \nNo registrations will be accepted on the day of the program. One adult per family admitted free. \nIt is not a drop-off program – children must be accompanied by an adult. Strollers and backpack carriers are not permitted in the house museums.
URL:https://massachusetts250.org/event/homeschool-program-dirt-detectives-revolutionary-edition/
LOCATION:Historic New England – Spencer-Peirce-Little Farm\, Little’s Lane 5\, Newbury\, Massachusetts\, 01951\, United States
CATEGORIES:Event,Outdoors
ATTACH;FMTTYPE=image/jpeg:https://massachusetts250.org/wp-content/uploads/2026/04/HNE-Dirt-Detectives.jpg
GEO:42.7953574;-70.853036
X-APPLE-STRUCTURED-LOCATION;VALUE=URI;X-ADDRESS=Historic New England – Spencer-Peirce-Little Farm Little’s Lane 5 Newbury Massachusetts 01951 United States;X-APPLE-RADIUS=500;X-TITLE=Little’s Lane 5:geo:-70.853036,42.7953574
END:VEVENT
END:VCALENDAR