BEGIN:VCALENDAR
VERSION:2.0
PRODID:-//MA250 - ECPv6.5.1.5//NONSGML v1.0//EN
CALSCALE:GREGORIAN
METHOD:PUBLISH
X-WR-CALNAME:MA250
X-ORIGINAL-URL:https://massachusetts250.org
X-WR-CALDESC:Events for MA250
REFRESH-INTERVAL;VALUE=DURATION:PT1H
X-Robots-Tag:noindex
X-PUBLISHED-TTL:PT1H
BEGIN:VTIMEZONE
TZID:America/New_York
BEGIN:DAYLIGHT
TZOFFSETFROM:-0500
TZOFFSETTO:-0400
TZNAME:EDT
DTSTART:20250309T070000
END:DAYLIGHT
BEGIN:STANDARD
TZOFFSETFROM:-0400
TZOFFSETTO:-0500
TZNAME:EST
DTSTART:20251102T060000
END:STANDARD
END:VTIMEZONE
BEGIN:VEVENT
DTSTART;TZID=America/New_York:20250518T130000
DTEND;TZID=America/New_York:20250518T150000
DTSTAMP:20260425T210546
CREATED:20250320T181216Z
LAST-MODIFIED:20250320T181216Z
UID:11577-1747573200-1747580400@massachusetts250.org
SUMMARY:Hingham250 - Battle of Grape Island 250th Anniversary Reenactment
DESCRIPTION:The Battle of Grape Island or the Grape Island Alarm commemorates the May 21\, 1775 provisions skirmish between militia from the South Shore of Boston – namely Hingham\, Hull\, Weymouth\, Braintree\, Scituate\, and Abington – and the British who were occupying Boston Harbor and attempted to resupply on Grape Island at the invitation of Hingham Loyalist Elijah Leavitt. Militia chased the British off of Grape Island and then marched as an angry mob to Leavitt’s Hingham home. Leavitt and his wife\, Ruth appeased the mob with rum and cake. On commemoration day\, we honor this history with ceremony\, a reenactment between the Hingham Militia Company and His Majesty’s 64th Regiment of Foot. Remarks\, and refreshments for all. Free and open to the public.
URL:https://massachusetts250.org/event/hingham250-battle-of-grape-island-250th-anniversary-reenactment/
LOCATION:Hingham Bathing Beach\, Otis Street 95\, Hingham\, Massachusetts\, 02043\, United States
CATEGORIES:Commemoration
ATTACH;FMTTYPE=image/jpeg:https://massachusetts250.org/wp-content/uploads/2025/03/HHS_BattleofGrapeIsland_2025_Social.jpg
ORGANIZER;CN="Town of Hingham%2C Hingham Historical Society%2C Hingham Militia Company":MAILTO:info@hinghamhistorical.org
GEO:42.2470736;-70.8882637
X-APPLE-STRUCTURED-LOCATION;VALUE=URI;X-ADDRESS=Hingham Bathing Beach Otis Street 95 Hingham Massachusetts 02043 United States;X-APPLE-RADIUS=500;X-TITLE=Otis Street 95:geo:-70.8882637,42.2470736
END:VEVENT
END:VCALENDAR