BEGIN:VCALENDAR
VERSION:2.0
PRODID:-//MA250 - ECPv6.5.1.5//NONSGML v1.0//EN
CALSCALE:GREGORIAN
METHOD:PUBLISH
X-WR-CALNAME:MA250
X-ORIGINAL-URL:https://massachusetts250.org
X-WR-CALDESC:Events for MA250
REFRESH-INTERVAL;VALUE=DURATION:PT1H
X-Robots-Tag:noindex
X-PUBLISHED-TTL:PT1H
BEGIN:VTIMEZONE
TZID:America/New_York
BEGIN:DAYLIGHT
TZOFFSETFROM:-0500
TZOFFSETTO:-0400
TZNAME:EDT
DTSTART:20260308T070000
END:DAYLIGHT
BEGIN:STANDARD
TZOFFSETFROM:-0400
TZOFFSETTO:-0500
TZNAME:EST
DTSTART:20261101T060000
END:STANDARD
END:VTIMEZONE
BEGIN:VEVENT
DTSTART;TZID=America/New_York:20260312T130000
DTEND;TZID=America/New_York:20260312T140000
DTSTAMP:20260421T042629
CREATED:20260303T185611Z
LAST-MODIFIED:20260303T185611Z
UID:26308-1773320400-1773324000@massachusetts250.org
SUMMARY:Gallery Talk: What Kind of Nation?
DESCRIPTION:Join Chief Historian Kanisorn Wongsrichanalai for “What Kind of Nation?”\, a gallery talk on the exhibition 1776: Declaring Independence. Visitors are invited to explore the rest of the exhibition and ask questions. Attendance is free. \nPlease visit here to register: https://www.masshist.org/events/gallery-talk-march-12-2026
URL:https://massachusetts250.org/event/gallery-talk-what-kind-of-nation/
LOCATION:Massachusetts Historical Society\, Boylston Street 1154\, Boston\, Massachusetts\, 02215\, United States
CATEGORIES:Event,Speakers
ATTACH;FMTTYPE=image/jpeg:https://massachusetts250.org/wp-content/uploads/2026/03/6275_washington_opp_p256_work_lg-2-Copy.jpg
ORGANIZER;CN="Massachusetts Historical Society":MAILTO:communications@masshist.org
GEO:42.3464046;-71.0898925
X-APPLE-STRUCTURED-LOCATION;VALUE=URI;X-ADDRESS=Massachusetts Historical Society Boylston Street 1154 Boston Massachusetts 02215 United States;X-APPLE-RADIUS=500;X-TITLE=Boylston Street 1154:geo:-71.0898925,42.3464046
END:VEVENT
END:VCALENDAR