BEGIN:VCALENDAR
VERSION:2.0
PRODID:-//MA250 - ECPv6.5.1.5//NONSGML v1.0//EN
CALSCALE:GREGORIAN
METHOD:PUBLISH
X-WR-CALNAME:MA250
X-ORIGINAL-URL:https://massachusetts250.org
X-WR-CALDESC:Events for MA250
REFRESH-INTERVAL;VALUE=DURATION:PT1H
X-Robots-Tag:noindex
X-PUBLISHED-TTL:PT1H
BEGIN:VTIMEZONE
TZID:America/New_York
BEGIN:DAYLIGHT
TZOFFSETFROM:-0500
TZOFFSETTO:-0400
TZNAME:EDT
DTSTART:20250309T070000
END:DAYLIGHT
BEGIN:STANDARD
TZOFFSETFROM:-0400
TZOFFSETTO:-0500
TZNAME:EST
DTSTART:20251102T060000
END:STANDARD
END:VTIMEZONE
BEGIN:VEVENT
DTSTART;TZID=America/New_York:20250419T100000
DTEND;TZID=America/New_York:20250419T110000
DTSTAMP:20260421T041801
CREATED:20250324T140738Z
LAST-MODIFIED:20250331T191453Z
UID:11773-1745056800-1745060400@massachusetts250.org
SUMMARY:Gallery Talk: Rebels\, Rights & Revolution: Battles of Lexington and Concord
DESCRIPTION:Join Reference Librarian Lauren Gray for a gallery talk on the exhibition “1775: Rebels\, Rights & Revolution\,” which charts major Massachusetts events in the first year of the American Revolution. Lauren will delve into the impact of the Battles of Lexington and Concord using related exhibition items. Visitors are invited to explore the rest of the exhibition and ask questions.
URL:https://massachusetts250.org/event/gallery-talk-rebels-rights-revolution-battles-of-lexington-and-concord/
LOCATION:Massachusetts Historical Society\, Boylston Street 1154\, Boston\, Massachusetts\, 02215\, United States
CATEGORIES:Anniversary,Event,Exhibit,Speakers
ATTACH;FMTTYPE=image/png:https://massachusetts250.org/wp-content/uploads/2025/03/etching.png
ORGANIZER;CN="Massachusetts Historical Society":MAILTO:communications@masshist.org
GEO:42.3464046;-71.0898925
X-APPLE-STRUCTURED-LOCATION;VALUE=URI;X-ADDRESS=Massachusetts Historical Society Boylston Street 1154 Boston Massachusetts 02215 United States;X-APPLE-RADIUS=500;X-TITLE=Boylston Street 1154:geo:-71.0898925,42.3464046
END:VEVENT
END:VCALENDAR