BEGIN:VCALENDAR
VERSION:2.0
PRODID:-//MA250 - ECPv6.5.1.5//NONSGML v1.0//EN
CALSCALE:GREGORIAN
METHOD:PUBLISH
X-WR-CALNAME:MA250
X-ORIGINAL-URL:https://massachusetts250.org
X-WR-CALDESC:Events for MA250
REFRESH-INTERVAL;VALUE=DURATION:PT1H
X-Robots-Tag:noindex
X-PUBLISHED-TTL:PT1H
BEGIN:VTIMEZONE
TZID:America/New_York
BEGIN:DAYLIGHT
TZOFFSETFROM:-0500
TZOFFSETTO:-0400
TZNAME:EDT
DTSTART:20260308T070000
END:DAYLIGHT
BEGIN:STANDARD
TZOFFSETFROM:-0400
TZOFFSETTO:-0500
TZNAME:EST
DTSTART:20261101T060000
END:STANDARD
END:VTIMEZONE
BEGIN:VEVENT
DTSTART;TZID=America/New_York:20260601T180000
DTEND;TZID=America/New_York:20260601T190000
DTSTAMP:20260421T210832
CREATED:20260421T210043Z
LAST-MODIFIED:20260421T210043Z
UID:29048-1780336800-1780340400@massachusetts250.org
SUMMARY:Drafting Independence: Declaration to Constitution
DESCRIPTION:This is a hybrid event. FREE for MHS Members. $10 per person fee (in person). No charge for virtual attendees or Card to Culture participants (EBT\, WIC\, and ConnectorCare). The in-person reception starts at 5:00 and the program will begin 6:00 PM. \nPlease visit here to register: https://www.masshist.org/events/drafting-independence \nAmerica’s founding documents have echoed throughout global history and culture for more than two centuries. Why did revolutionaries like John Adams and his peers draw on the past as they drafted the Declaration and crafted the Constitution? What ideas shaped the United States’ working definition of liberty\, and how did that translate to audiences abroad? Join us to explore how “we the people” imagined a new political vocabulary to interpret the American experiment\, which we continue today.
URL:https://massachusetts250.org/event/drafting-independence-declaration-to-constitution/
LOCATION:Massachusetts Historical Society\, Boylston Street 1154\, Boston\, Massachusetts\, 02215\, United States
CATEGORIES:Event,Speakers
ATTACH;FMTTYPE=image/jpeg:https://massachusetts250.org/wp-content/uploads/2026/04/Drafting-Independence.jpg
ORGANIZER;CN="Massachusetts Historical Society":MAILTO:communications@masshist.org
GEO:42.3464046;-71.0898925
X-APPLE-STRUCTURED-LOCATION;VALUE=URI;X-ADDRESS=Massachusetts Historical Society Boylston Street 1154 Boston Massachusetts 02215 United States;X-APPLE-RADIUS=500;X-TITLE=Boylston Street 1154:geo:-71.0898925,42.3464046
END:VEVENT
END:VCALENDAR