BEGIN:VCALENDAR
VERSION:2.0
PRODID:-//MA250 - ECPv6.5.1.5//NONSGML v1.0//EN
CALSCALE:GREGORIAN
METHOD:PUBLISH
X-WR-CALNAME:MA250
X-ORIGINAL-URL:https://massachusetts250.org
X-WR-CALDESC:Events for MA250
REFRESH-INTERVAL;VALUE=DURATION:PT1H
X-Robots-Tag:noindex
X-PUBLISHED-TTL:PT1H
BEGIN:VTIMEZONE
TZID:America/New_York
BEGIN:DAYLIGHT
TZOFFSETFROM:-0500
TZOFFSETTO:-0400
TZNAME:EDT
DTSTART:20260308T070000
END:DAYLIGHT
BEGIN:STANDARD
TZOFFSETFROM:-0400
TZOFFSETTO:-0500
TZNAME:EST
DTSTART:20261101T060000
END:STANDARD
END:VTIMEZONE
BEGIN:VEVENT
DTSTART;TZID=America/New_York:20260613T193000
DTEND;TZID=America/New_York:20260613T210000
DTSTAMP:20260421T042722
CREATED:20260211T170616Z
LAST-MODIFIED:20260211T170616Z
UID:25053-1781379000-1781384400@massachusetts250.org
SUMMARY:"Different Ships\, Same Boat" ... Voices of the American Experiment
DESCRIPTION:Led by Massachusetts Poet Laureate Regie Gibson and composer Guy Mendilow\, this interactive performance uses podcast-like narration and an evocative musical score to explore the multifaceted ways Americans risk\, live\, love\, and laugh. \nUnfolding through a series of chapters\, the show curates real-world stories from small towns\, cities\, and ports of entry; from Chinese Americans at Angel Island to Ottoman Jewish immigrants. Performed by a world-class\, multiethnic quartet\, the music spans lyrical American Blues to the traditional songs of Hungary and Greece. \nAs we commemorate the 250th anniversary of the American Experiment\, “Different Ships\, Same Boat” invites you to celebrate not only America\, but Americans. This is a moving\, finely crafted anthology for those craving a powerful performance that connects us to histories both familiar and far from our own.
URL:https://massachusetts250.org/event/different-ships-same-boat-voices-of-the-american-experiment/
LOCATION:The  Adams Theater\, Adams\, MA\, Park Street 27\, Adams\, MA\, 01220\, United States
CATEGORIES:Event
ATTACH;FMTTYPE=image/png:https://massachusetts250.org/wp-content/uploads/2026/02/vertical.png
ORGANIZER;CN="The Adams Theater":MAILTO:info@adamstheater.org
GEO:42.6217038;-73.1197343
X-APPLE-STRUCTURED-LOCATION;VALUE=URI;X-ADDRESS=The  Adams Theater Adams MA Park Street 27 Adams MA 01220 United States;X-APPLE-RADIUS=500;X-TITLE=Park Street 27:geo:-73.1197343,42.6217038
END:VEVENT
END:VCALENDAR