BEGIN:VCALENDAR
VERSION:2.0
PRODID:-//MA250 - ECPv6.5.1.5//NONSGML v1.0//EN
CALSCALE:GREGORIAN
METHOD:PUBLISH
X-WR-CALNAME:MA250
X-ORIGINAL-URL:https://massachusetts250.org
X-WR-CALDESC:Events for MA250
REFRESH-INTERVAL;VALUE=DURATION:PT1H
X-Robots-Tag:noindex
X-PUBLISHED-TTL:PT1H
BEGIN:VTIMEZONE
TZID:America/New_York
BEGIN:DAYLIGHT
TZOFFSETFROM:-0500
TZOFFSETTO:-0400
TZNAME:EDT
DTSTART:20260308T070000
END:DAYLIGHT
BEGIN:STANDARD
TZOFFSETFROM:-0400
TZOFFSETTO:-0500
TZNAME:EST
DTSTART:20261101T060000
END:STANDARD
END:VTIMEZONE
BEGIN:VEVENT
DTSTART;TZID=America/New_York:20260101T100000
DTEND;TZID=America/New_York:20260101T120000
DTSTAMP:20260421T041616
CREATED:20251211T214220Z
LAST-MODIFIED:20251211T214220Z
UID:22204-1767261600-1767268800@massachusetts250.org
SUMMARY:DCR First Day Hike at Kenneth Dubuque Memorial State Forest
DESCRIPTION:Massachusetts is where the American Revolution began\, and it is also where the First Day Hikes started. On New Years Day in 1992\, 380 people gathered at Blue Hills Reservation to welcome the new year with a walk in the woods. That simple idea grew into something big. Today\, all 50 states offer First Day Hikes on January 1. As we prepare to honor the 250th anniversary of the American Revolution in 2026\, DCR is proud to celebrate this Massachusetts tradition that continues to inspire the nation. \nKenneth Dubuque Memorial State Forest\nJanuary 1\, 2026\, 10:00am-12:00pm\nMeeting Location: 466 West Hawley Road\, Plainfield MA 01070\nGPS: -72.941611\, 42.552040\nRegistration required: https://forms.office.com/pages/responsepage.aspx?id=Fh2GPrdIDkqYBowE2Bt7Kmip39phsSVPm9-TaYv7LxNUNjc5RUgzMVNYMjRIU0RZNEE3MkxaTlBMQy4u&route=shorturl \nCelebrate the New Year at Kenneth Dubuque Memorial State Forest in Plainfield on a First Day Hike! Hiking the Pond Loop Trail around the beautiful Hallockville Pond\, enjoying evidence of wildlife and remnants of old mill sites. Easy to moderate hike\, no major elevation changes. Dress for the weather\, in case of snow traction devices / snowshoes are recommended. Leashed dogs are welcome.\nSpace is limited; registration is required. For more information\, please call (413) 347-2065.
URL:https://massachusetts250.org/event/dcr-first-day-hike-at-kenneth-dubuque-memorial-state-forest/
LOCATION:DCR Kenneth Dubuque Memorial State Forest\, West Hawley Road 466\, Plainfield\, Massachusetts\, 01070\, United States
CATEGORIES:Celebration,Event,Outdoors
ATTACH;FMTTYPE=image/jpeg:https://massachusetts250.org/wp-content/uploads/2025/12/FDH-Image-12.jpg
GEO:42.5519413;-72.9415948
X-APPLE-STRUCTURED-LOCATION;VALUE=URI;X-ADDRESS=DCR Kenneth Dubuque Memorial State Forest West Hawley Road 466 Plainfield Massachusetts 01070 United States;X-APPLE-RADIUS=500;X-TITLE=West Hawley Road 466:geo:-72.9415948,42.5519413
END:VEVENT
END:VCALENDAR