BEGIN:VCALENDAR
VERSION:2.0
PRODID:-//MA250 - ECPv6.5.1.5//NONSGML v1.0//EN
CALSCALE:GREGORIAN
METHOD:PUBLISH
X-WR-CALNAME:MA250
X-ORIGINAL-URL:https://massachusetts250.org
X-WR-CALDESC:Events for MA250
REFRESH-INTERVAL;VALUE=DURATION:PT1H
X-Robots-Tag:noindex
X-PUBLISHED-TTL:PT1H
BEGIN:VTIMEZONE
TZID:America/New_York
BEGIN:DAYLIGHT
TZOFFSETFROM:-0500
TZOFFSETTO:-0400
TZNAME:EDT
DTSTART:20250309T070000
END:DAYLIGHT
BEGIN:STANDARD
TZOFFSETFROM:-0400
TZOFFSETTO:-0500
TZNAME:EST
DTSTART:20251102T060000
END:STANDARD
END:VTIMEZONE
BEGIN:VEVENT
DTSTART;TZID=America/New_York:20250516T193000
DTEND;TZID=America/New_York:20250516T213000
DTSTAMP:20260421T072525
CREATED:20250310T174217Z
LAST-MODIFIED:20250310T174217Z
UID:8671-1747423800-1747431000@massachusetts250.org
SUMMARY:Concord250 Event: Period Music Concert
DESCRIPTION:Musicians of Trinity Episcopal Church\, 81 Elm Street will offer a concert of music from the 18th c at the church on Friday\, May 16th at 7:30 PM.  Performers will include musicians from Concord\, and surrounding towns. Music performed will be by composers whose music may well have been performed in and around Concord at the time of the historic battle\, including those from Europe and the Colonies\, including William Billings of Boston.
URL:https://massachusetts250.org/event/concord250-event-period-music-concert/
LOCATION:Trinity Episcopal Church\, 81 Elm Street\, Concord\, 01742\, United States
CATEGORIES:Event
ATTACH;FMTTYPE=image/png:https://massachusetts250.org/wp-content/uploads/2025/01/concord250event-10.png
ORGANIZER;CN="Concord250":MAILTO:pollyconcord250@gmail.com
GEO:42.4603719;-71.3489484
X-APPLE-STRUCTURED-LOCATION;VALUE=URI;X-ADDRESS=Trinity Episcopal Church 81 Elm Street Concord 01742 United States;X-APPLE-RADIUS=500;X-TITLE=81 Elm Street:geo:-71.3489484,42.4603719
END:VEVENT
END:VCALENDAR