BEGIN:VCALENDAR
VERSION:2.0
PRODID:-//MA250 - ECPv6.5.1.5//NONSGML v1.0//EN
CALSCALE:GREGORIAN
METHOD:PUBLISH
X-WR-CALNAME:MA250
X-ORIGINAL-URL:https://massachusetts250.org
X-WR-CALDESC:Events for MA250
REFRESH-INTERVAL;VALUE=DURATION:PT1H
X-Robots-Tag:noindex
X-PUBLISHED-TTL:PT1H
BEGIN:VTIMEZONE
TZID:America/New_York
BEGIN:DAYLIGHT
TZOFFSETFROM:-0500
TZOFFSETTO:-0400
TZNAME:EDT
DTSTART:20260308T070000
END:DAYLIGHT
BEGIN:STANDARD
TZOFFSETFROM:-0400
TZOFFSETTO:-0500
TZNAME:EST
DTSTART:20261101T060000
END:STANDARD
END:VTIMEZONE
BEGIN:VEVENT
DTSTART;TZID=America/New_York:20260422T180000
DTEND;TZID=America/New_York:20260422T200000
DTSTAMP:20260421T190223
CREATED:20260421T182456Z
LAST-MODIFIED:20260421T182456Z
UID:29268-1776880800-1776888000@massachusetts250.org
SUMMARY:Boston Tea Party Tea Tasting
DESCRIPTION:Reach back to Colonial times and sample teas from that age.  \nTea was a staple in colonial America. It became a symbol of British oppression and colonial protest. Refusal to drink tea\, and events such as the Boston Tea Party were acts of resistance that led to our country’s founding. \nTherapy Gardens will guide us through the Boston Tea Party\, including the famous ships involved\, the Sons of Liberty and “taxation without representation.”  \nThis program is sponsored by the Swansea Cultural Council\, a local agency\, and the Massachusetts Cultural Council\, a state agency.
URL:https://massachusetts250.org/event/boston-tea-party-tea-tasting/
LOCATION:Swansea Free Public Library\, Main Street 69\, Swansea\, Massachusetts\, 02777\, United States
CATEGORIES:Event,Speakers
ATTACH;FMTTYPE=image/jpeg:https://massachusetts250.org/wp-content/uploads/2026/04/69c447841a992_service-pnp-pga-08500-08593_150px.jpg
ORGANIZER;CN="Swansea Free Public Library":MAILTO:jtavares@sailsinc.org
GEO:41.7490247;-71.1900193
X-APPLE-STRUCTURED-LOCATION;VALUE=URI;X-ADDRESS=Swansea Free Public Library Main Street 69 Swansea Massachusetts 02777 United States;X-APPLE-RADIUS=500;X-TITLE=Main Street 69:geo:-71.1900193,41.7490247
END:VEVENT
END:VCALENDAR