BEGIN:VCALENDAR
VERSION:2.0
PRODID:-//MA250 - ECPv6.5.1.5//NONSGML v1.0//EN
CALSCALE:GREGORIAN
METHOD:PUBLISH
X-WR-CALNAME:MA250
X-ORIGINAL-URL:https://massachusetts250.org
X-WR-CALDESC:Events for MA250
REFRESH-INTERVAL;VALUE=DURATION:PT1H
X-Robots-Tag:noindex
X-PUBLISHED-TTL:PT1H
BEGIN:VTIMEZONE
TZID:America/New_York
BEGIN:DAYLIGHT
TZOFFSETFROM:-0500
TZOFFSETTO:-0400
TZNAME:EDT
DTSTART:20250309T070000
END:DAYLIGHT
BEGIN:STANDARD
TZOFFSETFROM:-0400
TZOFFSETTO:-0500
TZNAME:EST
DTSTART:20251102T060000
END:STANDARD
END:VTIMEZONE
BEGIN:VEVENT
DTSTART;TZID=America/New_York:20250710T180000
DTEND;TZID=America/New_York:20250710T190000
DTSTAMP:20260425T071423
CREATED:20250708T145423Z
LAST-MODIFIED:20250708T145423Z
UID:16989-1752170400-1752174000@massachusetts250.org
SUMMARY:Boston 250 Archaeology
DESCRIPTION:Join the City of Boston’s archaeology team for an exciting look at their latest discoveries uncovering the underrepresented stories of the American Revolution in Boston. \nLearn how their work is bringing new voices and perspectives to light through recent digs and research across the city.
URL:https://massachusetts250.org/event/boston-250-archaeology/
LOCATION:East Boston Branch\, Bremen Street 365\, Boston\, MA\, 02128\, United States
CATEGORIES:Event
ATTACH;FMTTYPE=image/jpeg:https://massachusetts250.org/wp-content/uploads/2025/07/ViewofthecountryroundBostontakenfromBeaconhillbyRichardWilliamsc1775Leventhal_0.jpg
ORGANIZER;CN="Boston Public Library":MAILTO:ask@bpl.org
GEO:42.3778506;-71.0278754
X-APPLE-STRUCTURED-LOCATION;VALUE=URI;X-ADDRESS=East Boston Branch Bremen Street 365 Boston MA 02128 United States;X-APPLE-RADIUS=500;X-TITLE=Bremen Street 365:geo:-71.0278754,42.3778506
END:VEVENT
END:VCALENDAR