BEGIN:VCALENDAR
VERSION:2.0
PRODID:-//MA250 - ECPv6.5.1.5//NONSGML v1.0//EN
CALSCALE:GREGORIAN
METHOD:PUBLISH
X-WR-CALNAME:MA250
X-ORIGINAL-URL:https://massachusetts250.org
X-WR-CALDESC:Events for MA250
REFRESH-INTERVAL;VALUE=DURATION:PT1H
X-Robots-Tag:noindex
X-PUBLISHED-TTL:PT1H
BEGIN:VTIMEZONE
TZID:America/New_York
BEGIN:DAYLIGHT
TZOFFSETFROM:-0500
TZOFFSETTO:-0400
TZNAME:EDT
DTSTART:20250309T070000
END:DAYLIGHT
BEGIN:STANDARD
TZOFFSETFROM:-0400
TZOFFSETTO:-0500
TZNAME:EST
DTSTART:20251102T060000
END:STANDARD
END:VTIMEZONE
BEGIN:VEVENT
DTSTART;TZID=America/New_York:20250614T110000
DTEND;TZID=America/New_York:20250614T120000
DTSTAMP:20260425T163431
CREATED:20250310T175144Z
LAST-MODIFIED:20250310T175144Z
UID:8857-1749898800-1749902400@massachusetts250.org
SUMMARY:Ashby Battle of Bunker Hill Commemoration
DESCRIPTION:A ceremony commemorating the Ashby Militia’s participation in the Battle of Bunker Hill to be held on the Town Common. The ceremony will include the laying of a wreath at the Revolutionary War Soldier’s Monument\, and salutes by the Townsend Militia and Ashburnham Light Artillery. Pastor Ken Johnson will speak on the importance of the battle and the Ashby Militia’s role in it.
URL:https://massachusetts250.org/event/ashby-battle-of-bunker-hill-commemoration/
CATEGORIES:Commemoration
ATTACH;FMTTYPE=image/jpeg:https://massachusetts250.org/wp-content/uploads/2025/01/lt-artillery1-banner-1600.jpg
END:VEVENT
END:VCALENDAR