BEGIN:VCALENDAR
VERSION:2.0
PRODID:-//MA250 - ECPv6.5.1.5//NONSGML v1.0//EN
CALSCALE:GREGORIAN
METHOD:PUBLISH
X-WR-CALNAME:MA250
X-ORIGINAL-URL:https://massachusetts250.org
X-WR-CALDESC:Events for MA250
REFRESH-INTERVAL;VALUE=DURATION:PT1H
X-Robots-Tag:noindex
X-PUBLISHED-TTL:PT1H
BEGIN:VTIMEZONE
TZID:America/New_York
BEGIN:DAYLIGHT
TZOFFSETFROM:-0500
TZOFFSETTO:-0400
TZNAME:EDT
DTSTART:20260308T070000
END:DAYLIGHT
BEGIN:STANDARD
TZOFFSETFROM:-0400
TZOFFSETTO:-0500
TZNAME:EST
DTSTART:20261101T060000
END:STANDARD
END:VTIMEZONE
BEGIN:VEVENT
DTSTART;TZID=America/New_York:20260624T190000
DTEND;TZID=America/New_York:20260624T200000
DTSTAMP:20260421T190220
CREATED:20260421T154055Z
LAST-MODIFIED:20260421T154055Z
UID:29156-1782327600-1782331200@massachusetts250.org
SUMMARY:America's Food at 250!
DESCRIPTION:America’s Food at 250: \nWhat is the state of American food on its 250th birthday? In this talk we’ll look at all the flavors\, dishes and cooks that got us here\, from the Indigenous ingredients that shape regional American cuisine\, to the influence of the African kitchen\, to the fast food revolution. \nAbout the Speaker: \nSarah Lohman is originally from Hinckley\, Ohio where she began working in a museum at the age of 16\, cooking historical food over a wood-burning stove. She graduated with a BFA from the Cleveland Institute of Art in 2005. For her undergraduate thesis\, she opened a temporary restaurant/installation that reinterpreted food of the Colonial era for a modern audience. Lohman moved to New York City in 2006 and worked as Video Producer for New York magazine’s food blog\, Grub Street. She chronicled her personal explorations in culinary history on her blog\, Four Pounds Flour\, from 2008-2018.  \nLohman’s most recent book Endangered Eating: America’s Vanishing Foods\, was released by W.W. Norton & Co. in October  2023. The book is a New York Times Editors’ Choice and was named one of the Best Books of 2023 by Amazon\, Food & Wine\, and Adam Gopnik on the Milk Street podcast. Lohman’s first book\, Eight Flavors: The Untold Story of American Cuisine\, was released by Simon & Schuster in December 2016. An Amazon bestseller\, the Atlantic called it “Richly researched\, intriguing\, and cleverly written.” Eight Flavors  is currently taught in undergraduate classes at Purdue and Pennsylvania State University. Her third book\, Ice Cream Land\, will be released Summer 2027.  \nOver her career\, Lohman’s work has been featured in The New York Times\, The Wall Street Journal\, The Washington Post\, as well as on All Things Considered\, CNN\, Gimlet Media\, and NHK Japan. She has appeared in PBS’s American Experience\, The Cooking Channel’s Food: Fact or Fiction\, and developed a historical food service for Taylor Mac’s a 24-Decade History of Popular Music.  \nLohman works with institutions around the country to create public programs focused on food. She has lectured at diverse institutions including the Lower East Side Tenement Museum\, Museum of Science (Boston)\, the Smithsonian Museum of American History\, and the Culinary Historians of Southern California. Lohman is based in Las Vegas. \n*Please note: This is a virtual program. Please click this link to register: https://us06web.zoom.us/meeting/register/R_1cVn-wTlqFlNKY_xqY_Q
URL:https://massachusetts250.org/event/americas-food-at-250/
LOCATION:Topsfield Town Library Zoom\, South Common St 1\, Topsfield\, Massachusetts\, 01983\, United States
CATEGORIES:Culinary,Event,Speakers
ATTACH;FMTTYPE=image/jpeg:https://massachusetts250.org/wp-content/uploads/2026/04/sarah_lohman_headshots_final_by_krystal_ramirez-5-1024x684-1.jpg
ORGANIZER;CN="Topsfield Town Library":MAILTO:ask@topsfieldlibrary.org
GEO:42.6408731;-70.9497109
X-APPLE-STRUCTURED-LOCATION;VALUE=URI;X-ADDRESS=Topsfield Town Library Zoom South Common St 1 Topsfield Massachusetts 01983 United States;X-APPLE-RADIUS=500;X-TITLE=South Common St 1:geo:-70.9497109,42.6408731
END:VEVENT
END:VCALENDAR