BEGIN:VCALENDAR
VERSION:2.0
PRODID:-//MA250 - ECPv6.5.1.5//NONSGML v1.0//EN
CALSCALE:GREGORIAN
METHOD:PUBLISH
X-WR-CALNAME:MA250
X-ORIGINAL-URL:https://massachusetts250.org
X-WR-CALDESC:Events for MA250
REFRESH-INTERVAL;VALUE=DURATION:PT1H
X-Robots-Tag:noindex
X-PUBLISHED-TTL:PT1H
BEGIN:VTIMEZONE
TZID:America/New_York
BEGIN:DAYLIGHT
TZOFFSETFROM:-0500
TZOFFSETTO:-0400
TZNAME:EDT
DTSTART:20260308T070000
END:DAYLIGHT
BEGIN:STANDARD
TZOFFSETFROM:-0400
TZOFFSETTO:-0500
TZNAME:EST
DTSTART:20261101T060000
END:STANDARD
END:VTIMEZONE
BEGIN:VEVENT
DTSTART;TZID=America/New_York:20260115T183000
DTEND;TZID=America/New_York:20260115T200000
DTSTAMP:20260424T034416
CREATED:20260105T160741Z
LAST-MODIFIED:20260105T160741Z
UID:22894-1768501800-1768507200@massachusetts250.org
SUMMARY:Agawam Historical Association Winter Meeting - “The Most Proper Spot in America: The Continental Arsenal at Springfield”
DESCRIPTION:The public is invited to the Winter Meeting of the Agawam Historical Association on Thursday\, 15 January 2026 at 6:30 pm at the Captain Charles Leonard House\, 663 Main Street\, Agawam\, when Springfield Armory National Historic Site Curator Alex MacKenzie will present “The Most Proper Spot in America: The Continental Arsenal at Springfield\,” revealing its hidden stories and the contributions of our region to American independence. \nFollowing the creation of the Continental Army in 1775\, General George Washington and his lieutenants organized a system of supply and logistics to support the fledgling American military as it fought for independence. Brigadier General Henry Knox\, Chief of Artillery\, personally sited a military supply depot at Springfield\, Massachusetts early in 1777. Hundreds of enlisted tradesmen poured into town to begin building\, repairing\, maintaining\, and shipping all sorts of military supplies\, and Springfield was quickly bustling with activity throughout the American Revolution. \nAlex MacKenzie is a museum professional\, author\, and historian specializing in U.S. military history\, with a focus on small arms development\, logistics\, and supply. He has authored numerous articles and publications on the technical and industrial history of small arms centered on the Springfield Armory (1777–1968) and is a leading authority on the management and care of historic firearms and ammunition in museum collections. He has developed museum policy for the National Park Service\, contributed to publications on collections care\, and regularly consults with museums nationwide. He serves as Curator of Collections at Springfield Armory National Historic Site and resides in Belchertown with his wife and two daughters. \nThis event is free and open to the public.
URL:https://massachusetts250.org/event/agawam-historical-association-winter-meeting-the-most-proper-spot-in-america-the-continental-arsenal-at-springfield/
LOCATION:Captain Charles Leonard House\, 663 Main Street\, Agawam\, 01001\, United States
CATEGORIES:Event,Speakers
ATTACH;FMTTYPE=image/jpeg:https://massachusetts250.org/wp-content/uploads/2026/01/Magazine-MA250.jpg
ORGANIZER;CN="Agawam Historical Association":MAILTO:1855@agawamhistory.org
GEO:42.0707941;-72.6142651
X-APPLE-STRUCTURED-LOCATION;VALUE=URI;X-ADDRESS=Captain Charles Leonard House 663 Main Street Agawam 01001 United States;X-APPLE-RADIUS=500;X-TITLE=663 Main Street:geo:-72.6142651,42.0707941
END:VEVENT
END:VCALENDAR