BEGIN:VCALENDAR
VERSION:2.0
PRODID:-//MA250 - ECPv6.5.1.5//NONSGML v1.0//EN
CALSCALE:GREGORIAN
METHOD:PUBLISH
X-WR-CALNAME:MA250
X-ORIGINAL-URL:https://massachusetts250.org
X-WR-CALDESC:Events for MA250
REFRESH-INTERVAL;VALUE=DURATION:PT1H
X-Robots-Tag:noindex
X-PUBLISHED-TTL:PT1H
BEGIN:VTIMEZONE
TZID:America/New_York
BEGIN:DAYLIGHT
TZOFFSETFROM:-0500
TZOFFSETTO:-0400
TZNAME:EDT
DTSTART:20250309T070000
END:DAYLIGHT
BEGIN:STANDARD
TZOFFSETFROM:-0400
TZOFFSETTO:-0500
TZNAME:EST
DTSTART:20251102T060000
END:STANDARD
END:VTIMEZONE
BEGIN:VEVENT
DTSTART;TZID=America/New_York:20250427T130000
DTEND;TZID=America/New_York:20250427T150000
DTSTAMP:20260421T041121
CREATED:20250320T181620Z
LAST-MODIFIED:20250331T193706Z
UID:11559-1745758800-1745766000@massachusetts250.org
SUMMARY:Abigail Adams Birthplace Open Hours
DESCRIPTION:Open hours at the Abigail Adams Birthplace begin for the season on Sunday\, April and from 1 – 3 p.m. \nBuilt in 1685\, the Abigail Smith Adams (1744-1818) Birthplace was home to this exceptional woman for the first twenty years of her life. It has survived two relocations and now stands as a monument to her extraordinary life. \nPlease note: Visits are by guided tour only. Tours begin on the half hour\, with the last tour starting at 2:30 p.m.\nCost: $10 adults/$5 children and members are free!
URL:https://massachusetts250.org/event/abigail-adams-birthplace-open-hours/
LOCATION:Abigail Adams Birthplace\, Norton Street 180\, Weymouth\, Massachusetts\, 02191\, United States
CATEGORIES:Exhibit,Women's History
ATTACH;FMTTYPE=image/png:https://massachusetts250.org/wp-content/uploads/2025/03/house-4.png
ORGANIZER;CN="Abigail Adams Birthplace":MAILTO:aahs1744@gmail.com
GEO:42.2323862;-70.945601
X-APPLE-STRUCTURED-LOCATION;VALUE=URI;X-ADDRESS=Abigail Adams Birthplace Norton Street 180 Weymouth Massachusetts 02191 United States;X-APPLE-RADIUS=500;X-TITLE=Norton Street 180:geo:-70.945601,42.2323862
END:VEVENT
END:VCALENDAR