BEGIN:VCALENDAR
VERSION:2.0
PRODID:-//MA250 - ECPv6.5.1.5//NONSGML v1.0//EN
CALSCALE:GREGORIAN
METHOD:PUBLISH
X-WR-CALNAME:MA250
X-ORIGINAL-URL:https://massachusetts250.org
X-WR-CALDESC:Events for MA250
REFRESH-INTERVAL;VALUE=DURATION:PT1H
X-Robots-Tag:noindex
X-PUBLISHED-TTL:PT1H
BEGIN:VTIMEZONE
TZID:America/New_York
BEGIN:DAYLIGHT
TZOFFSETFROM:-0500
TZOFFSETTO:-0400
TZNAME:EDT
DTSTART:20250309T070000
END:DAYLIGHT
BEGIN:STANDARD
TZOFFSETFROM:-0400
TZOFFSETTO:-0500
TZNAME:EST
DTSTART:20251102T060000
END:STANDARD
END:VTIMEZONE
BEGIN:VEVENT
DTSTART;TZID=America/New_York:20250617T190000
DTEND;TZID=America/New_York:20250617T210000
DTSTAMP:20260421T043031
CREATED:20250611T191304Z
LAST-MODIFIED:20250611T191304Z
UID:16129-1750186800-1750194000@massachusetts250.org
SUMMARY:“A STATE OF REBELLION” PART II: HONORING THE 250TH ANNIVERSARY OF THE BATTLE OF BUNKER HILL
DESCRIPTION:On Tuesday\, June 17th\, at 7pm at the Adams Academy\, 8 Adams Street\, Quincy Historical Society will host the second part of a program exploring life in Braintree during the first pivotal months of the American Revolution. The City of Quincy’s Directory of Historic Heritage and Resources\, Bob Damon\, and Quincy Historical Society’s Executive Director Emeritus Ed Fitzgerald\, will be joined by New England Slavery Historian Kerima M. Lewis Ph.D to commemorate the 250th anniversary of the Battle of Bunker Hill. \nDrawing from newly compiled archival records\, this program will follow local commanders like Captains Elihu Adams\, Silas Wild\, and Seth Turner and their men from the April 19th alarm to their deployments as Braintree’s “eight-months” companies at Prospect Hill and Fort No. 2 and their part in the preparations for the Battle of Bunker Hill. \nThe presentation will also uncover lesser-known events like the Grape Island skirmish and examine the deep tensions within the town—including documented loyalist families who stood on the other side of the conflict. With vivid eyewitness accounts\, such as Abigail Adams’s letters from the Braintree home front\, and detailed muster records from the Massachusetts Archives\, this program offers a richly detailed portrait of a Massachusetts coastal community at war. \nThis event\, part of the Historical Society’s ongoing celebrations of Quincy400\, is open to all and free to attend.
URL:https://massachusetts250.org/event/a-state-of-rebellion-part-ii-honoring-the-250th-anniversary-of-the-battle-of-bunker-hill/
LOCATION:Quincy Historical Society and Museum\, Adams Street 8\, Quincy\, Massachusetts\, 02169\, United States
CATEGORIES:Event,Speakers
ATTACH;FMTTYPE=image/png:https://massachusetts250.org/wp-content/uploads/2025/06/State-of-Rebellion-Part-II.png
GEO:42.2538335;-71.0060417
X-APPLE-STRUCTURED-LOCATION;VALUE=URI;X-ADDRESS=Quincy Historical Society and Museum Adams Street 8 Quincy Massachusetts 02169 United States;X-APPLE-RADIUS=500;X-TITLE=Adams Street 8:geo:-71.0060417,42.2538335
END:VEVENT
END:VCALENDAR