BEGIN:VCALENDAR
VERSION:2.0
PRODID:-//MA250 - ECPv6.5.1.5//NONSGML v1.0//EN
CALSCALE:GREGORIAN
METHOD:PUBLISH
X-WR-CALNAME:MA250
X-ORIGINAL-URL:https://massachusetts250.org
X-WR-CALDESC:Events for MA250
REFRESH-INTERVAL;VALUE=DURATION:PT1H
X-Robots-Tag:noindex
X-PUBLISHED-TTL:PT1H
BEGIN:VTIMEZONE
TZID:America/New_York
BEGIN:DAYLIGHT
TZOFFSETFROM:-0500
TZOFFSETTO:-0400
TZNAME:EDT
DTSTART:20260308T070000
END:DAYLIGHT
BEGIN:STANDARD
TZOFFSETFROM:-0400
TZOFFSETTO:-0500
TZNAME:EST
DTSTART:20261101T060000
END:STANDARD
END:VTIMEZONE
BEGIN:VEVENT
DTSTART;TZID=America/New_York:20260523T170000
DTEND;TZID=America/New_York:20260523T200000
DTSTAMP:20260421T203603
CREATED:20260421T211318Z
LAST-MODIFIED:20260421T211318Z
UID:28965-1779555600-1779566400@massachusetts250.org
SUMMARY:A Revolution of Her Own!: The Deborah Sampson Story
DESCRIPTION:Celebrate Deborah Sampson Day at the Eustis Estate with an immersive performance and exclusive after-hours access to the museum. Deborah Sampson disguised herself to enlist in the Continental Army during the American Revolution. History at Play’s Judith Kalaora tells her story with a powerful one-woman show. Ticket includes admission to our current exhibition\, Myth and Memory: Stories of the American Revolution\, which features Deborah Sampson’s actual wedding dress. \nPlease call (617) 994-6600 for more information. \nDoors will open at 5:00 p.m. for drinks and refreshments. Come early to explore the museum and see the exhibition. The outdoor performance will start at 6:00 p.m. and will be followed by a Q&A with the performer.
URL:https://massachusetts250.org/event/a-revolution-of-her-own-the-deborah-sampson-story-2/
LOCATION:Historic New England – Eustis Estate\, 1424 Canton Avenue\, Milton\, 02186\, United States
CATEGORIES:Celebration,Drama,Reenactment,Women's History
ATTACH;FMTTYPE=image/jpeg:https://massachusetts250.org/wp-content/uploads/2026/04/Deborah-Sampson-2.jpg
GEO:42.2315279;-71.1072939
X-APPLE-STRUCTURED-LOCATION;VALUE=URI;X-ADDRESS=Historic New England – Eustis Estate 1424 Canton Avenue Milton 02186 United States;X-APPLE-RADIUS=500;X-TITLE=1424 Canton Avenue:geo:-71.1072939,42.2315279
END:VEVENT
END:VCALENDAR