BEGIN:VCALENDAR
VERSION:2.0
PRODID:-//MA250 - ECPv6.5.1.5//NONSGML v1.0//EN
CALSCALE:GREGORIAN
METHOD:PUBLISH
X-WR-CALNAME:MA250
X-ORIGINAL-URL:https://massachusetts250.org
X-WR-CALDESC:Events for MA250
REFRESH-INTERVAL;VALUE=DURATION:PT1H
X-Robots-Tag:noindex
X-PUBLISHED-TTL:PT1H
BEGIN:VTIMEZONE
TZID:America/New_York
BEGIN:DAYLIGHT
TZOFFSETFROM:-0500
TZOFFSETTO:-0400
TZNAME:EDT
DTSTART:20250309T070000
END:DAYLIGHT
BEGIN:STANDARD
TZOFFSETFROM:-0400
TZOFFSETTO:-0500
TZNAME:EST
DTSTART:20251102T060000
END:STANDARD
END:VTIMEZONE
BEGIN:VEVENT
DTSTART;TZID=America/New_York:20251108T163000
DTEND;TZID=America/New_York:20251108T230000
DTSTAMP:20260420T043917
CREATED:20250218T220606Z
LAST-MODIFIED:20250218T220606Z
UID:9900-1762619400-1762642800@massachusetts250.org
SUMMARY:250th Marine Corps Birthday Ball Plymouth
DESCRIPTION:250th Marine Corps Birthday Ball in Plymouth\, MA. In conjunction with a Marine cake cutting ceremony\, there will be a showcasing of Plymouth’s connection to the Continental and Privateer Marines of the Revolutionary War by reenactors. From the first Continental Marine Recruiter in Plymouth 1776\, Lieutenant Seth Chapin. To Plymouth’s own Continental Marine Lieutenant James Warren Jr\, who served aboard the USS Alliance until wounded in May 1781. He is also the son of James Warren and Mercy Otis Warren. Then the Privateer Marines who perished aboard the General Arnold in a storm in Plymouth Bay on Christmas 1778. This event is a collaboration between the Marine Corps League Detachment 1306 in Plymouth and Volunteers of America Massachusetts in Plymouth. Guest of Honor for this Marine Corps Birthday Ball will be Lieutenant Colonel Robert H. Barrow USMC Ret.
URL:https://massachusetts250.org/event/250th-marine-corps-birthday-ball-plymouth/
LOCATION:Hotel 1620\, Water Street 180\, Plymouth\, Massachusetts\, 02360\, United States
CATEGORIES:Anniversary,Celebration,Commemoration,Event,Memorial,Reenactment
ATTACH;FMTTYPE=image/jpeg:https://massachusetts250.org/wp-content/uploads/2025/02/inbound2228205430628834816.jpg
ORGANIZER;CN="Marine Corps League Detachment 1306 Plymouth":MAILTO:plymouthmarinecorpsball@gmail.com
GEO:41.9614721;-70.6703647
X-APPLE-STRUCTURED-LOCATION;VALUE=URI;X-ADDRESS=Hotel 1620 Water Street 180 Plymouth Massachusetts 02360 United States;X-APPLE-RADIUS=500;X-TITLE=Water Street 180:geo:-70.6703647,41.9614721
END:VEVENT
END:VCALENDAR